BEGIN:VCALENDAR
VERSION:2.0
PRODID:-//wp-events-plugin.com//7.2.3.1//EN
BEGIN:VEVENT
UID:130@happydiversrotterdam.nl
DTSTART;TZID=Europe/Amsterdam:20251109T101500
DTEND;TZID=Europe/Amsterdam:20251109T131500
DTSTAMP:20251006T063052Z
URL:https://happydiversrotterdam.nl/evenementen/clubduik-anna-jacoba-polde
 r-3/
SUMMARY:Clubduik Anna Jacoba Polder
DESCRIPTION:De duikplaats Anna-Jacoba polder ligt aan de veerhaven waar vro
 eger de veerdienst Anna-Jacobapolder/Zijpe werd onderhouden. Nu bevindt zi
 ch tussen de twee strekdammen een mosselkwekerij. Ook hier mag gedoken wor
 den.\nDit water heet "het Zijpe" en is een druk bevaren stukje Oosterschel
 de. Schuin aan de overzijde van dit smalle stukje water ligt de duikstek Z
 oetersbout\, maar in tegenstelling tot Zoetersbout is het bij Anna-Jacoba
 polder aan te raden om tijdens de kentering te duiken.\nAls je aan de voet
  van de dijk\, bij de aanlegsteiger\, te water gaat\, moet je zorgen dat j
 e niet teveel naar het westen gaat\, omdat je dan in de drukbevaren vaarro
 ute terecht kan komen.\n\nLet op! Blijf uit de buurt van de steiger die bu
 iten de haven ligt. Vooral in de zomer meert hier regelmatig een pontje aa
 n. Duiken vanaf en rondom de steiger is dan ook niet toegestaan. Vermijd b
 ovendien het westelijk deel van de haveningang\, vanwege de nabijheid van 
 de vaarroute.\n\nDe officiële parkeerplaats bevindt zich op de zuidelijke
  dam en is aangegeven met blauwe borden. Indien je op het gras parkeert\, 
 doe dit dan uitsluitend op het gemarkeerde gedeelte langs de dijk\; het gr
 asveld voor het appartementencomplex moet vrij blijven. Houd er rekening m
 ee dat het mobiele toilet is verwijderd. Tegen betaling van één euro kun
  je tussen 08:00 en 22:00 uur gebruikmaken van het toilet in het apparteme
 ntencomplex.\n\nAanwezig duikstek: 15.00 uur\nTe water: 11.30 uur\nKenteri
 ng ter plaatse: 11.47 uur LW\n\nAanmelden: leden via de app\, introducees 
 via het contactformulier  Indeling\n\nDuikcategorieën: www.happydiver
 srotterdam.nl/duikcategorieen
ATTACH;FMTTYPE=image/jpeg:https://happydiversrotterdam.nl/wp-content/uploa
 ds/2025/08/Anna-Jacobapolder_72-scaled.jpg
CATEGORIES:Clubduik
LOCATION:https://maps.app.goo.gl/jRJsLUkVWf4prcDd7
END:VEVENT
BEGIN:VTIMEZONE
TZID:Europe/Amsterdam
X-LIC-LOCATION:Europe/Amsterdam
BEGIN:STANDARD
DTSTART:20251026T020000
TZOFFSETFROM:+0200
TZOFFSETTO:+0100
TZNAME:CET
END:STANDARD
END:VTIMEZONE
END:VCALENDAR